BEGIN:VCALENDAR
VERSION:2.0
PRODID:-//Junge Reiseprofis - ECPv6.15.20//NONSGML v1.0//EN
CALSCALE:GREGORIAN
METHOD:PUBLISH
X-WR-CALNAME:Junge Reiseprofis
X-ORIGINAL-URL:https://junge-reiseprofis.de
X-WR-CALDESC:Veranstaltungen für Junge Reiseprofis
REFRESH-INTERVAL;VALUE=DURATION:PT1H
X-Robots-Tag:noindex
X-PUBLISHED-TTL:PT1H
BEGIN:VTIMEZONE
TZID:Europe/Berlin
BEGIN:DAYLIGHT
TZOFFSETFROM:+0100
TZOFFSETTO:+0200
TZNAME:CEST
DTSTART:20250330T010000
END:DAYLIGHT
BEGIN:STANDARD
TZOFFSETFROM:+0200
TZOFFSETTO:+0100
TZNAME:CET
DTSTART:20251026T010000
END:STANDARD
BEGIN:DAYLIGHT
TZOFFSETFROM:+0100
TZOFFSETTO:+0200
TZNAME:CEST
DTSTART:20260329T010000
END:DAYLIGHT
BEGIN:STANDARD
TZOFFSETFROM:+0200
TZOFFSETTO:+0100
TZNAME:CET
DTSTART:20261025T010000
END:STANDARD
BEGIN:DAYLIGHT
TZOFFSETFROM:+0100
TZOFFSETTO:+0200
TZNAME:CEST
DTSTART:20270328T010000
END:DAYLIGHT
BEGIN:STANDARD
TZOFFSETFROM:+0200
TZOFFSETTO:+0100
TZNAME:CET
DTSTART:20271031T010000
END:STANDARD
END:VTIMEZONE
BEGIN:VEVENT
DTSTART;TZID=Europe/Berlin:20260420T180000
DTEND;TZID=Europe/Berlin:20260423T223000
DTSTAMP:20260421T111214
CREATED:20250919T222140Z
LAST-MODIFIED:20260323T150117Z
UID:10424-1776708000-1776983400@junge-reiseprofis.de
SUMMARY:AVIAREPS: Sei dabei bei der Spring Roadshow 2026!
DESCRIPTION:Die 2026 Spring Roadshow bringt euch die neuesten Trends\, spannende Insights und wertvolles Networking\, live in deiner Nähe! \n  \nSAVE THE DATE: \nSpring 2026: 20. – 23. April: Würzburg\, Frankfurt\, Trier\, Karlsruhe \nFall 2026: 14. – 17. September: Aachen\, Köln\, Bremen\, Braunschweig \n \n  \n \n\n \n20. April Würzburg \nStartet mit uns gemeinsam den Roadshow-Auftakt in der fränkischen Weinmetropole Würzburg! Die Veranstaltung findet in der besonderen Location Marinahafen statt\, direkt am Wasser gelegen und mit einer einzigartigen Atmosphäre\, die den perfekten Rahmen für ein unvergessliches Event bietet. \nErlebt namhafte Partner\, die euch ihre faszinierenden Destinationen vorstellen\, und nutzt die Gelegenheit zum persönlichen Austausch an den Marketplace-Ständen. \nJetzt anmelden >>> \n\n\n\n\n21. April: Frankfurt \nEntlang des Mains geht es weiter nach Frankfurt! \nDie AVIAREPS Roadshow macht Halt in der angesagten Maindock Eventlocation\, die mit urbanem Flair die ideale Kulisse für wertvolle Begegnungen bietet. \nEntdeckt spannende Destinationen\, tauscht euch mit Branchenexperten aus und knüpft neue Kontakte. \nJetzt anmelden >>> \n\n\n\n\n \n22. April: Trier \nWeiter flussabwärts in Trier genießen wir im stilvollen Nells Park Hotel das charmante Ambiente der Stadt und lassen uns von den spannenden Neuigkeiten unserer Partner inspirieren. \nJetzt anmelden >>> \n  \n\n \n23. April: Karlsruhe \nZum krönenden Abschluss macht die Roadshow Halt in Karlsruhe. Die Rheinterrassen bieten mit Blick auf den Rhein die ideale Location für ein gelungenes Finale. \nErlebt spannende Begegnungen\, vertieft Kontakte und feiert mit uns das große Roadshow-Finale am Rhein! \nJetzt anmelden >>>
URL:https://junge-reiseprofis.de/event/aviareps-roadshow-herbst-die-tour-geht-weiter/
ATTACH;FMTTYPE=image/png:https://junge-reiseprofis.de/wp-content/uploads/2025/09/Screenshot-2026-03-23-160059.png
END:VEVENT
END:VCALENDAR